BEGIN:VCALENDAR
VERSION:2.0
PRODID:-//Affiliated Choruses of Ithaca - ECPv6.15.20//NONSGML v1.0//EN
CALSCALE:GREGORIAN
METHOD:PUBLISH
X-ORIGINAL-URL:https://acithaca.org
X-WR-CALDESC:Events for Affiliated Choruses of Ithaca
REFRESH-INTERVAL;VALUE=DURATION:PT1H
X-Robots-Tag:noindex
X-PUBLISHED-TTL:PT1H
BEGIN:VTIMEZONE
TZID:America/New_York
BEGIN:DAYLIGHT
TZOFFSETFROM:-0500
TZOFFSETTO:-0400
TZNAME:EDT
DTSTART:20250309T070000
END:DAYLIGHT
BEGIN:STANDARD
TZOFFSETFROM:-0400
TZOFFSETTO:-0500
TZNAME:EST
DTSTART:20251102T060000
END:STANDARD
BEGIN:DAYLIGHT
TZOFFSETFROM:-0500
TZOFFSETTO:-0400
TZNAME:EDT
DTSTART:20260308T070000
END:DAYLIGHT
BEGIN:STANDARD
TZOFFSETFROM:-0400
TZOFFSETTO:-0500
TZNAME:EST
DTSTART:20261101T060000
END:STANDARD
BEGIN:DAYLIGHT
TZOFFSETFROM:-0500
TZOFFSETTO:-0400
TZNAME:EDT
DTSTART:20270314T070000
END:DAYLIGHT
BEGIN:STANDARD
TZOFFSETFROM:-0400
TZOFFSETTO:-0500
TZNAME:EST
DTSTART:20271107T060000
END:STANDARD
END:VTIMEZONE
BEGIN:VEVENT
DTSTART;TZID=America/New_York:20260427T190000
DTEND;TZID=America/New_York:20260427T204500
DTSTAMP:20260423T150742
CREATED:20260405T023836Z
LAST-MODIFIED:20260405T023836Z
UID:13356-1777316400-1777322700@acithaca.org
SUMMARY:Voices Multicultural Chorus Rehearsal
DESCRIPTION:
URL:https://acithaca.org/event/voices-multicultural-chorus-rehearsal-3/
LOCATION:Unitarian Annex\, 208 E. Buffalo St.\, Ithaca\, New York
END:VEVENT
BEGIN:VEVENT
DTSTART;TZID=America/New_York:20260429T080000
DTEND;TZID=America/New_York:20260429T210000
DTSTAMP:20260423T150742
CREATED:20260405T223533Z
LAST-MODIFIED:20260405T223533Z
UID:13375-1777449600-1777496400@acithaca.org
SUMMARY:ICC&CS Dress Rehearsal
DESCRIPTION:
URL:https://acithaca.org/event/icccs-dress-rehearsal/
LOCATION:St. Paul’s United Methodist Church\, 402 N. Aurora St.\, Ithaca\, NY
END:VEVENT
BEGIN:VEVENT
DTSTART;TZID=America/New_York:20260501T190000
DTEND;TZID=America/New_York:20260501T210000
DTSTAMP:20260423T150742
CREATED:20260405T223622Z
LAST-MODIFIED:20260405T223651Z
UID:13377-1777662000-1777669200@acithaca.org
SUMMARY:ICC&CS Dress Rehearsal
DESCRIPTION:
URL:https://acithaca.org/event/icccs-dress-rehearsal-2/
LOCATION:St. Paul’s United Methodist Church\, 402 N. Aurora St.\, Ithaca\, NY
END:VEVENT
BEGIN:VEVENT
DTSTART;TZID=America/New_York:20260502T193000
DTEND;TZID=America/New_York:20260502T210000
DTSTAMP:20260423T150742
CREATED:20260404T024500Z
LAST-MODIFIED:20260404T024500Z
UID:13339-1777750200-1777755600@acithaca.org
SUMMARY:ICC&CS 50th Anniversary Concert
DESCRIPTION:
URL:https://acithaca.org/event/icccs-50th-anniversary-concert/
LOCATION:St. Paul’s United Methodist Church\, 402 N. Aurora St.\, Ithaca\, NY
END:VEVENT
BEGIN:VEVENT
DTSTART;TZID=America/New_York:20260504T190000
DTEND;TZID=America/New_York:20260504T204500
DTSTAMP:20260423T150742
CREATED:20260405T024327Z
LAST-MODIFIED:20260405T024447Z
UID:13358-1777921200-1777927500@acithaca.org
SUMMARY:Voices Multicultural Chorus Rehearsal
DESCRIPTION:
URL:https://acithaca.org/event/voices-multicultural-chorus-rehearsal-4/
LOCATION:Unitarian Annex\, 208 E. Buffalo St.\, Ithaca\, New York
END:VEVENT
BEGIN:VEVENT
DTSTART;TZID=America/New_York:20260511T190000
DTEND;TZID=America/New_York:20260511T204500
DTSTAMP:20260423T150742
CREATED:20260405T024558Z
LAST-MODIFIED:20260405T025059Z
UID:13360-1778526000-1778532300@acithaca.org
SUMMARY:Voices Multicultural Chorus Rehearsal
DESCRIPTION:
URL:https://acithaca.org/event/voices-multicultural-chorus-rehearsal-5/
LOCATION:Unitarian Annex\, 208 E. Buffalo St.\, Ithaca\, New York
END:VEVENT
BEGIN:VEVENT
DTSTART;TZID=America/New_York:20260515T190000
DTEND;TZID=America/New_York:20260515T210000
DTSTAMP:20260423T150742
CREATED:20260405T025420Z
LAST-MODIFIED:20260405T025420Z
UID:13362-1778871600-1778878800@acithaca.org
SUMMARY:Voices Multicultural Chorus Dress Rehearsal
DESCRIPTION:
URL:https://acithaca.org/event/voices-multicultural-chorus-dress-rehearsal/
LOCATION:Unitarian Annex\, 208 E. Buffalo St.\, Ithaca\, New York
END:VEVENT
BEGIN:VEVENT
DTSTART;TZID=America/New_York:20260516T150000
DTEND;TZID=America/New_York:20260516T160000
DTSTAMP:20260423T150742
CREATED:20260405T030039Z
LAST-MODIFIED:20260405T030142Z
UID:13367-1778943600-1778947200@acithaca.org
SUMMARY:Voices Multicultural Chorus Concert
DESCRIPTION:
URL:https://acithaca.org/event/voices-multicultural-chorus-concert/
LOCATION:First Baptist Church\, 309 N. Cayuga St.\, Ithaca\, NY
END:VEVENT
BEGIN:VEVENT
DTSTART;TZID=America/New_York:20260610T190000
DTEND;TZID=America/New_York:20260610T210000
DTSTAMP:20260423T150742
CREATED:20260407T161446Z
LAST-MODIFIED:20260407T161446Z
UID:13446-1781118000-1781125200@acithaca.org
SUMMARY:SummerSing Chorus Rehearsal
DESCRIPTION:
URL:https://acithaca.org/event/summersing-chorus-rehearsal/
LOCATION:St. Paul’s United Methodist Church\, 402 N. Aurora St.\, Ithaca\, NY
END:VEVENT
BEGIN:VEVENT
DTSTART;TZID=America/New_York:20260617T190000
DTEND;TZID=America/New_York:20260617T210000
DTSTAMP:20260423T150742
CREATED:20260407T161554Z
LAST-MODIFIED:20260408T024101Z
UID:13448-1781722800-1781730000@acithaca.org
SUMMARY:SummerSing Chorus Rehearsal
DESCRIPTION:
URL:https://acithaca.org/event/summersing-chorus-rehearsal-2/
LOCATION:St. Paul’s United Methodist Church\, 402 N. Aurora St.\, Ithaca\, NY
END:VEVENT
BEGIN:VEVENT
DTSTART;TZID=America/New_York:20260624T190000
DTEND;TZID=America/New_York:20260624T210000
DTSTAMP:20260423T150742
CREATED:20260407T161715Z
LAST-MODIFIED:20260408T024328Z
UID:13450-1782327600-1782334800@acithaca.org
SUMMARY:SummerSing Chorus Rehearsal
DESCRIPTION:
URL:https://acithaca.org/event/summersing-chorus-rehearsal-3/
LOCATION:St. Paul’s United Methodist Church\, 402 N. Aurora St.\, Ithaca\, NY
END:VEVENT
BEGIN:VEVENT
DTSTART;TZID=America/New_York:20260701T190000
DTEND;TZID=America/New_York:20260701T210000
DTSTAMP:20260423T150742
CREATED:20260407T162037Z
LAST-MODIFIED:20260407T162037Z
UID:13452-1782932400-1782939600@acithaca.org
SUMMARY:SummerSing Chorus Rehearsal
DESCRIPTION:
URL:https://acithaca.org/event/summersing-chorus-rehearsal-4/
LOCATION:St. Paul’s United Methodist Church\, 402 N. Aurora St.\, Ithaca\, NY
END:VEVENT
BEGIN:VEVENT
DTSTART;TZID=America/New_York:20260708T080000
DTEND;TZID=America/New_York:20260708T170000
DTSTAMP:20260423T150742
CREATED:20260407T162219Z
LAST-MODIFIED:20260407T162219Z
UID:13454-1783497600-1783530000@acithaca.org
SUMMARY:SummerSing Chorus Rehearsal
DESCRIPTION:
URL:https://acithaca.org/event/summersing-chorus-rehearsal-5/
LOCATION:St. Paul’s United Methodist Church\, 402 N. Aurora St.\, Ithaca\, NY
END:VEVENT
BEGIN:VEVENT
DTSTART;TZID=America/New_York:20260715T190000
DTEND;TZID=America/New_York:20260715T210000
DTSTAMP:20260423T150742
CREATED:20260407T162409Z
LAST-MODIFIED:20260407T162409Z
UID:13456-1784142000-1784149200@acithaca.org
SUMMARY:SummerSing Chorus Rehearsal
DESCRIPTION:
URL:https://acithaca.org/event/summersing-chorus-rehearsal-6/
LOCATION:St. Paul’s United Methodist Church\, 402 N. Aurora St.\, Ithaca\, NY
END:VEVENT
BEGIN:VEVENT
DTSTART;TZID=America/New_York:20260722T190000
DTEND;TZID=America/New_York:20260722T210000
DTSTAMP:20260423T150742
CREATED:20260407T162539Z
LAST-MODIFIED:20260407T162539Z
UID:13458-1784746800-1784754000@acithaca.org
SUMMARY:SummerSing Chorus Rehearsal
DESCRIPTION:
URL:https://acithaca.org/event/summersing-chorus-rehearsal-7/
LOCATION:St. Paul’s United Methodist Church\, 402 N. Aurora St.\, Ithaca\, NY
END:VEVENT
BEGIN:VEVENT
DTSTART;TZID=America/New_York:20260729T190000
DTEND;TZID=America/New_York:20260729T210000
DTSTAMP:20260423T150742
CREATED:20260407T162737Z
LAST-MODIFIED:20260408T024134Z
UID:13460-1785351600-1785358800@acithaca.org
SUMMARY:SummerSing Chorus Concert
DESCRIPTION:
URL:https://acithaca.org/event/summersing-chorus-concert/
LOCATION:St. Paul’s United Methodist Church\, 402 N. Aurora St.\, Ithaca\, NY
END:VEVENT
END:VCALENDAR